BEGIN:VCALENDAR
VERSION:2.0
PRODID:-//NYCN Anambra State Chapter - ECPv6.5.2//NONSGML v1.0//EN
CALSCALE:GREGORIAN
METHOD:PUBLISH
X-WR-CALNAME:NYCN Anambra State Chapter
X-ORIGINAL-URL:https://nycnanambra.org.ng
X-WR-CALDESC:Events for NYCN Anambra State Chapter
REFRESH-INTERVAL;VALUE=DURATION:PT1H
X-Robots-Tag:noindex
X-PUBLISHED-TTL:PT1H
BEGIN:VTIMEZONE
TZID:UTC
BEGIN:STANDARD
TZOFFSETFROM:+0000
TZOFFSETTO:+0000
TZNAME:UTC
DTSTART:20230101T000000
END:STANDARD
END:VTIMEZONE
BEGIN:VEVENT
DTSTART;TZID=UTC:20240126T100000
DTEND;TZID=UTC:20240126T100000
DTSTAMP:20260425T104507
CREATED:20240125T200156Z
LAST-MODIFIED:20240125T202511Z
UID:3037-1706263200-1706263200@nycnanambra.org.ng
SUMMARY:Anambra Youth Investment Submit
DESCRIPTION:The National Youth Council of Nigeria\, Anambra State Chapter led by 𝘼𝙢𝙗. 𝙎𝙪𝙧𝙫. 𝙊𝙗𝙞 𝙀𝙢𝙚𝙠𝙖 𝘾𝙝𝙪𝙠𝙬𝙪𝙙𝙞 set to hold a capacity building summit tagged; 𝘼𝙘𝙘𝙚𝙨𝙨 𝙏𝙤 𝙒𝙚𝙖𝙡𝙩𝙝 𝙏𝙝𝙧𝙤𝙪𝙜𝙝 𝙍𝙚𝙖𝙡 𝙀𝙨𝙩𝙖𝙩𝙚 𝘼𝙣𝙙 𝘿𝙞𝙜𝙞𝙩𝙖𝙡 𝙒𝙚𝙖𝙡𝙩𝙝 𝘾𝙧𝙚𝙖𝙩𝙞𝙤𝙣. \nReal Estate\, as an asset class\, has long been heralded as a critical pillar of wealth creation for entrepreneurs. It is a tangible investment avenue\, and its potential for consistent appreciation and income generation makes it an excellent wealth-building tool. \nNigerian Real Estate has historically shown steady appreciation in value\, making it a reliable long-term investment. \nThe summit is proudly sponsored by 𝙈𝙧. 𝙂𝙖𝙗𝙧𝙞𝙚𝙡 𝘾𝙝𝙪𝙠𝙬𝙪𝙣𝙬𝙚𝙣𝙙𝙪\, (Anambra Youth Commander / CEO Pool King Estate Ltd) and slated to hold as follows; \nDate : 𝙁𝙧𝙞𝙙𝙖𝙮 𝟮𝟲𝙩𝙝 𝙅𝙖𝙣𝙪𝙖𝙧𝙮\, 𝟮𝟬𝟮𝟰 \nVenue : 𝙊𝙢𝙖 𝙀𝙫𝙚𝙣𝙩 𝘾𝙚𝙣𝙩𝙚𝙧 𝘽𝙚𝙨𝙞𝙙𝙚 𝘼𝙡𝙚𝙭 𝙀𝙠𝙬𝙪𝙚𝙢𝙚 𝙎𝙦𝙪𝙖𝙧𝙚\, 𝘼𝙬𝙠𝙖. \nTime: 𝟭𝟬:𝟬𝟬 𝗮𝗺 \nOne of the primary ways in which investors can make money in real estate is to become the landlord of a rental property. People who are flippers\, buying up undervalued real estate\, fixing it up\, and selling it\, can also earn income. \nAvail yourself this great privilege to learn and understand the lucrative nature of investing in Real Estate business. \nᴅᴇᴠᴇʟᴏᴘ ᴛʜᴇ ʏᴏᴜᴛʜ !!\nᴅᴇᴠᴇʟᴏᴘ ᴛʜᴇ ɴᴀᴛɪᴏɴ !!!
URL:https://nycnanambra.org.ng/event/%f0%9d%98%bc%f0%9d%99%98%f0%9d%99%98%f0%9d%99%9a%f0%9d%99%a8%f0%9d%99%a8-%f0%9d%99%8f%f0%9d%99%a4-%f0%9d%99%92%f0%9d%99%9a%f0%9d%99%96%f0%9d%99%a1%f0%9d%99%a9%f0%9d%99%9d-%f0%9d%99%8f%f0%9d%99%9d/
LOCATION:𝘼𝙘𝙘𝙚𝙨𝙨 𝙏𝙤 𝙒𝙚𝙖𝙡𝙩𝙝 𝙏𝙝𝙧𝙤𝙪𝙜𝙝 𝙍𝙚𝙖𝙡 𝙀𝙨𝙩𝙖𝙩𝙚 𝘼𝙣𝙙 𝘿𝙞𝙜𝙞𝙩𝙖𝙡 𝙒𝙚𝙖𝙡𝙩𝙝 𝘾𝙧𝙚𝙖𝙩𝙞𝙤𝙣\, OmaEvent Center\, Beside Alex Ekwueme Square\, Awka\, Anambra\, 420108\, Nigeria
ATTACH;FMTTYPE=image/jpeg:https://nycnanambra.org.ng/wp-content/uploads/2024/01/𝘼𝙘𝙘𝙚𝙨𝙨-𝙏𝙤-𝙒𝙚𝙖𝙡𝙩𝙝-𝙏𝙝𝙧𝙤𝙪𝙜𝙝-𝙍𝙚𝙖𝙡-𝙀𝙨𝙩𝙖𝙩𝙚-𝘼𝙣𝙙-𝘿𝙞𝙜𝙞𝙩𝙖𝙡-𝙒𝙚𝙖𝙡𝙩𝙝-𝘾𝙧𝙚𝙖𝙩𝙞𝙤𝙣.jpg
END:VEVENT
BEGIN:VEVENT
DTSTART;TZID=UTC:20231104T100000
DTEND;TZID=UTC:20231104T100000
DTSTAMP:20260425T104507
CREATED:20231030T210635Z
LAST-MODIFIED:20231031T122606Z
UID:942-1699092000-1699092000@nycnanambra.org.ng
SUMMARY:Anambra Youth Innovative Business and Achievers Award
DESCRIPTION:𝘼𝙉𝘼𝙈𝘽𝙍𝘼 𝙔𝙊𝙐𝙏𝙃 𝙄𝙉𝙉𝙊𝙑𝘼𝙏𝙄𝙑𝙀 𝘽𝙐𝙎𝙄𝙉𝙀𝙎𝙎 𝙎𝙐𝙈𝙈𝙄𝙏 𝘼𝙉𝘿 𝘼𝘾𝙃𝙄𝙀𝙑𝙀𝙍𝙎 𝘼𝙒𝘼𝙍𝘿.\nThe National Youth Council Of Nigeria Anambra State Chapter led by 𝘼𝙢𝙗. 𝙎𝙪𝙧𝙫. 𝙊𝙗𝙞 𝙀𝙢𝙚𝙠𝙖 set to host a capacity-building youth business summit which will reorient the business ideas of the youths and enhance the economic sustainability of the State.\nThe summit with the theme; 𝙃𝙖𝙧𝙣𝙚𝙨𝙨𝙞𝙣𝙜 𝙂𝙡𝙤𝙗𝙖𝙡 𝘽𝙪𝙨𝙞𝙣𝙚𝙨𝙨 𝙊𝙥𝙥𝙤𝙧𝙩𝙪𝙣𝙞𝙩𝙞𝙚𝙨 𝙏𝙝𝙧𝙤𝙪𝙜𝙝 𝙄𝙣𝙣𝙤𝙫𝙖𝙩𝙞𝙤𝙣; 𝙁𝙤𝙧 𝙎𝙪𝙨𝙩𝙖𝙞𝙣𝙖𝙗𝙞𝙡𝙞𝙩𝙮 𝙖𝙣𝙙 𝙎𝙪𝙧𝙫𝙞𝙫𝙖𝙡 𝙤𝙛 𝙏𝙤𝙙𝙖𝙮’𝙨 𝙀𝙘𝙤𝙣𝙤𝙢𝙞𝙘 𝘾𝙝𝙖𝙡𝙡𝙚𝙣𝙜𝙚 𝙞𝙣 𝙉𝙞𝙜𝙚𝙧𝙞𝙖\, will have a lot of impact ranging from Keynote speakers and special notable guests who will mentor and reorient the youths from their wide-reaching knowledge and business innovative experiences.\nThe business summit which is slated to hold on 𝙎𝙖𝙩𝙪𝙧𝙙𝙖𝙮 𝟰𝙩𝙝 𝙉𝙤𝙫𝙚𝙢𝙗𝙚𝙧\, 𝟮𝟬𝟮𝟯 at 𝘽𝙤𝙣 𝙃𝙤𝙩𝙚𝙡 𝙎𝙢𝙞𝙩𝙝 𝘾𝙞𝙩𝙮\, 𝘼𝙬𝙠𝙖\, will have in attendance\, notable individuals who have distinguished themselves in the areas of academics\, businesses and human capital development.\nAs a youth\, this is an event you cannot afford to miss regardless of where you reside in the State. While we look forward to seeing you\, kindly share the information to reach all and sundry in your locality.\nʙᴜɪʟᴅ ᴛʜᴇ ʏᴏᴜᴛʜ !!! ʙᴜɪʟᴅ ᴛʜᴇ ɴᴀᴛɪᴏɴ !!!\nYours in Youth Development\,\nIfeanyi Emmanuel Ifedigbo 🇳🇬\nState PRO\, NYCN Anambra Chapter
URL:https://nycnanambra.org.ng/event/anambra-youth-innovative-business-and-achievers-award/
LOCATION:Anambra Youth Innovative Business and Achievers Award\, 𝘽𝙤𝙣 𝙃𝙤𝙩𝙚𝙡 𝙎𝙢𝙞𝙩𝙝 𝘾𝙞𝙩𝙮\, 𝘼𝙬𝙠𝙖\, Awka\, Anambra\, 420211\, Nigeria
CATEGORIES:NYCN Anambra State Chapter
ATTACH;FMTTYPE=image/jpeg:https://nycnanambra.org.ng/wp-content/uploads/2023/10/achievers-award.jpg
ORGANIZER;CN="NYCN Anambra State Chapter":MAILTO:nycnanambrachapter@gmail.com
END:VEVENT
BEGIN:VEVENT
DTSTART;TZID=UTC:20231104T090000
DTEND;TZID=UTC:20231104T090000
DTSTAMP:20260425T104507
CREATED:20231027T180121Z
LAST-MODIFIED:20231102T083202Z
UID:316-1699088400-1699088400@nycnanambra.org.ng
SUMMARY:𝙋𝙤𝙎 𝙀𝙢𝙥𝙤𝙬𝙚𝙧𝙢𝙚𝙣𝙩 𝙄𝙣𝙞𝙩𝙞𝙖𝙩𝙞𝙫𝙚 𝙁𝙤𝙧 𝙄𝙣𝙣𝙤𝙫𝙖𝙩𝙞𝙫𝙚 𝘽𝙪𝙨𝙞𝙣𝙚𝙨𝙨 𝙄𝙙𝙚𝙖𝙨
DESCRIPTION:In line with the agenda of NYCN Anambra State on youth development and purposeful engagements\, the event will also feature the 𝙋𝙤𝙎 𝙀𝙢𝙥𝙤𝙬𝙚𝙧𝙢𝙚𝙣𝙩 𝙄𝙣𝙞𝙩𝙞𝙖𝙩𝙞𝙫𝙚 𝙁𝙤𝙧 𝙄𝙣𝙣𝙤𝙫𝙖𝙩𝙞𝙫𝙚 𝘽𝙪𝙨𝙞𝙣𝙚𝙨𝙨 𝙄𝙙𝙚𝙖𝙨 𝙞𝙣 𝙥𝙖𝙧𝙩𝙣𝙚𝙧𝙨𝙝𝙞𝙥 𝙬𝙞𝙩𝙝 𝙋𝙤𝙤𝙡 𝙆𝙞𝙣𝙜 𝙂𝙡𝙤𝙗𝙖𝙡 𝙄𝙣𝙫𝙚𝙨𝙩𝙢𝙚𝙣𝙩 𝙇𝙩𝙙 which is designed to make the beneficiaries financially independent and enable them to earn a living as the country is currently facing economic meltdown.\n\n\nBuild the Youth !! Build the Nation !!!
URL:https://nycnanambra.org.ng/event/%f0%9d%99%8b%f0%9d%99%a4%f0%9d%99%8e-%f0%9d%99%80%f0%9d%99%a2%f0%9d%99%a5%f0%9d%99%a4%f0%9d%99%ac%f0%9d%99%9a%f0%9d%99%a7%f0%9d%99%a2%f0%9d%99%9a%f0%9d%99%a3%f0%9d%99%a9-%f0%9d%99%84%f0%9d%99%a3/
LOCATION:𝙋𝙤𝙎 𝙀𝙢𝙥𝙤𝙬𝙚𝙧𝙢𝙚𝙣𝙩 𝙄𝙣𝙞𝙩𝙞𝙖𝙩𝙞𝙫𝙚 𝙁𝙤𝙧 𝙄𝙣𝙣𝙤𝙫𝙖𝙩𝙞𝙫𝙚 𝘽𝙪𝙨𝙞𝙣𝙚𝙨𝙨 𝙄𝙙𝙚𝙖𝙨\, Bon Hotel\, Smith City Awka\, Anambra State\, Awka\, Anambra\, 420211\, Nigeria
CATEGORIES:Trainings
ATTACH;FMTTYPE=image/jpeg:https://nycnanambra.org.ng/wp-content/uploads/2023/10/395787641_311041168344239_4181369434086341033_n.jpg
ORGANIZER;CN="NYCN Anambra State Chapter %F0%9D%99%9E%F0%9D%99%A3 %F0%9D%99%A5%F0%9D%99%96%F0%9D%99%A7%F0%9D%99%A9%F0%9D%99%A3%F0%9D%99%9A%F0%9D%99%A7%F0%9D%99%A8%F0%9D%99%9D%F0%9D%99%9E%F0%9D%99%A5 %F0%9D%99%AC%F0%9D%99%9E%F0%9D%99%A9%F0%9D%99%9D %F0%9D%99%8B%F0%9D%99%A4%F0%9D%99%A4%F0%9D%99%A1 %F0%9D%99%86%F0%9D%99%9E%F0%9D%99%A3%F0%9D%99%9C %F0%9D%99%82%F0%9D%99%A1%F0%9D%99%A4%F0%9D%99%97%F0%9D%99%96%F0%9D%99%A1 %F0%9D%99%84%F0%9D%99%A3%F0%9D%99%AB%F0%9D%99%9A%F0%9D%99%A8%F0%9D%99%A9%F0%9D%99%A2%F0%9D%99%9A%F0%9D%99%A3%F0%9D%99%A9 %F0%9D%99%87%F0%9D%99%A9%F0%9D%99%99":MAILTO:nycnanambrachapter@gmail.com
END:VEVENT
BEGIN:VEVENT
DTSTART;TZID=UTC:20231021T100000
DTEND;TZID=UTC:20231031T091300
DTSTAMP:20260425T104507
CREATED:20231021T091308Z
LAST-MODIFIED:20231102T083937Z
UID:970-1697882400-1698743580@nycnanambra.org.ng
SUMMARY:NYCN Anambra North Set to Hold National Youth Leadership Retreat
DESCRIPTION:𝙉𝙔𝘾𝙉 𝘼𝙉𝘼𝙈𝘽𝙍𝘼 𝙉𝙊𝙍𝙏𝙃 𝙎𝙀𝙏 𝙏𝙊 𝙃𝙊𝙇𝘿 𝙉𝘼𝙏𝙄𝙊𝙉𝘼𝙇 𝙔𝙊𝙐𝙏𝙃 𝙇𝙀𝘼𝘿𝙀𝙍𝙎𝙃𝙄𝙋 𝙍𝙀𝙏𝙍𝙀𝘼𝙏.\n\n\n𝙏𝙝𝙚𝙢𝙚: Diversifying The Economy Through Youth Innovation and Productivity.\n\n\n\n\n\n\nHOST:\n𝘾𝙤𝙢𝙧𝙖𝙙𝙚 𝙋𝙚𝙩𝙚𝙧 𝙉𝙣𝙚𝙠𝙬𝙚\nVice Chairman\, NYCN Anambra North\n\n\nCHIEF HOST:\n𝘼𝙢𝙗. 𝙎𝙪𝙧𝙫. 𝙊𝙗𝙞 𝙀𝙢𝙚𝙠𝙖 𝘾𝙝𝙪𝙠𝙬𝙪𝙙𝙞\nState Chairman\, NYCN Anambra State
URL:https://nycnanambra.org.ng/event/nycn-anambra-north-set-to-hold-national-youth-leadership-retreat/
LOCATION:NYCN Anambra State Chapter\, 𝘼𝙣𝙜𝙚𝙡 𝙎𝙪𝙞𝙩𝙚 𝙃𝙤𝙩𝙚𝙡\, 𝘼𝙜𝙪𝙡𝙚𝙧𝙞\, Aguleri\, Anambra\, 420211\, Nigeria
CATEGORIES:Past Events
ATTACH;FMTTYPE=image/jpeg:https://nycnanambra.org.ng/wp-content/uploads/2023/10/𝙉𝙔𝘾𝙉-𝘼𝙉𝘼𝙈𝘽𝙍𝘼-𝙉𝙊𝙍𝙏𝙃-𝙎𝙀𝙏-𝙏𝙊-𝙃𝙊𝙇𝘿-𝙉𝘼𝙏𝙄𝙊𝙉𝘼𝙇-𝙔𝙊𝙐𝙏𝙃-𝙇𝙀𝘼𝘿𝙀𝙍𝙎𝙃𝙄𝙋-𝙍𝙀𝙏𝙍𝙀𝘼𝙏s.jpg
ORGANIZER;CN="NYCN Anambra State Chapter":MAILTO:nycnanambrachapter@gmail.com
END:VEVENT
BEGIN:VEVENT
DTSTART;TZID=UTC:20231011T070000
DTEND;TZID=UTC:20231031T092700
DTSTAMP:20260425T104507
CREATED:20231011T070032Z
LAST-MODIFIED:20231102T083747Z
UID:973-1697007600-1698744420@nycnanambra.org.ng
SUMMARY:𝙄𝙣𝙩𝙚𝙧𝙣𝙖𝙩𝙞𝙤𝙣𝙖𝙡 𝘿𝙖𝙮 𝙤𝙛 𝙩𝙝𝙚 𝙂𝙞𝙧𝙡 𝘾𝙝𝙞𝙡𝙙 (𝙄𝘿𝙂_𝟮𝟬𝟮𝟯)
DESCRIPTION:Celebrating the 𝙄𝙣𝙩𝙚𝙧𝙣𝙖𝙩𝙞𝙤𝙣𝙖𝙡 𝘿𝙖𝙮 𝙤𝙛 𝙩𝙝𝙚 𝙂𝙞𝙧𝙡 𝘾𝙝𝙞𝙡𝙙 (𝙄𝘿𝙂_𝟮𝟬𝟮𝟯)\, the Office of the State Treasurer in partnership with Directorate for Gender and Girl Child set to celebrate the girl child in the state.\n\n\nThe outreach to commemorate the annual celebration will hold on 𝙬𝙚𝙙𝙣𝙚𝙨𝙙𝙖𝙮 𝟭𝟭𝘁𝗵 𝗢𝗰𝘁𝗼𝗯𝗲𝗿\, 𝟮𝟬𝟮𝟯 by 𝟬𝟳:𝟬𝟬𝗮𝗺 prompt\, and has the theme; 𝙊𝙪𝙧 𝙏𝙞𝙢𝙚 𝙄𝙨 𝙉𝙤𝙬\, 𝙊𝙪𝙧 𝙍𝙞𝙜𝙝𝙩𝙨 𝙊𝙪𝙧 𝙁𝙪𝙩𝙪𝙧𝙚.\n\n\nThe highlight of the anticipated outreach includes;\n• 𝘼𝙙𝙫𝙤𝙘𝙖𝙘𝙮.\n• 𝙂𝙞𝙧𝙡 𝙀𝙢𝙥𝙤𝙬𝙚𝙧𝙢𝙚𝙣𝙩.\n• 𝘾𝙖𝙥𝙖𝙘𝙞𝙩𝙮 𝘽𝙪𝙞𝙡𝙙𝙞𝙣𝙜.\n\n\nᴅᴇᴠᴇʟᴏᴘ ᴛʜᴇ ʏᴏᴜᴛʜ….. ᴅᴇᴠᴇʟᴏᴘ ᴛʜᴇ ɴᴀᴛɪᴏɴ.
URL:https://nycnanambra.org.ng/event/%f0%9d%99%84%f0%9d%99%a3%f0%9d%99%a9%f0%9d%99%9a%f0%9d%99%a7%f0%9d%99%a3%f0%9d%99%96%f0%9d%99%a9%f0%9d%99%9e%f0%9d%99%a4%f0%9d%99%a3%f0%9d%99%96%f0%9d%99%a1-%f0%9d%98%bf%f0%9d%99%96%f0%9d%99%ae/
LOCATION:𝙄𝙣𝙩𝙚𝙧𝙣𝙖𝙩𝙞𝙤𝙣𝙖𝙡 𝘿𝙖𝙮 𝙤𝙛 𝙩𝙝𝙚 𝙂𝙞𝙧𝙡 𝘾𝙝𝙞𝙡𝙙 (𝙄𝘿𝙂_𝟮𝟬𝟮𝟯)\, Online\, Awka\, Anambra\, 420211\, Nigeria
CATEGORIES:NYCN Anambra State Chapter,Past Events
ATTACH;FMTTYPE=image/jpeg:https://nycnanambra.org.ng/wp-content/uploads/2023/10/𝙄𝙣𝙩𝙚𝙧𝙣𝙖𝙩𝙞𝙤𝙣𝙖𝙡-𝘿𝙖𝙮-𝙤𝙛-𝙩𝙝𝙚-𝙂𝙞𝙧𝙡-𝘾𝙝𝙞𝙡𝙙-𝙄𝘿𝙂_𝟮𝟬𝟮𝟯.jpg
ORGANIZER;CN="NYCN Anambra State Chapter":MAILTO:nycnanambrachapter@gmail.com
END:VEVENT
END:VCALENDAR